BEGIN:VCALENDAR
VERSION:2.0
PRODID:-//Erich Kästner Schule - ECPv6.15.20//NONSGML v1.0//EN
CALSCALE:GREGORIAN
METHOD:PUBLISH
X-ORIGINAL-URL:https://eks-ffm.de
X-WR-CALDESC:Veranstaltungen für Erich Kästner Schule
REFRESH-INTERVAL;VALUE=DURATION:PT1H
X-Robots-Tag:noindex
X-PUBLISHED-TTL:PT1H
BEGIN:VTIMEZONE
TZID:Europe/Berlin
BEGIN:DAYLIGHT
TZOFFSETFROM:+0100
TZOFFSETTO:+0200
TZNAME:CEST
DTSTART:20230326T010000
END:DAYLIGHT
BEGIN:STANDARD
TZOFFSETFROM:+0200
TZOFFSETTO:+0100
TZNAME:CET
DTSTART:20231029T010000
END:STANDARD
BEGIN:DAYLIGHT
TZOFFSETFROM:+0100
TZOFFSETTO:+0200
TZNAME:CEST
DTSTART:20240331T010000
END:DAYLIGHT
BEGIN:STANDARD
TZOFFSETFROM:+0200
TZOFFSETTO:+0100
TZNAME:CET
DTSTART:20241027T010000
END:STANDARD
BEGIN:DAYLIGHT
TZOFFSETFROM:+0100
TZOFFSETTO:+0200
TZNAME:CEST
DTSTART:20250330T010000
END:DAYLIGHT
BEGIN:STANDARD
TZOFFSETFROM:+0200
TZOFFSETTO:+0100
TZNAME:CET
DTSTART:20251026T010000
END:STANDARD
END:VTIMEZONE
BEGIN:VEVENT
DTSTART;TZID=Europe/Berlin:20241111T150000
DTEND;TZID=Europe/Berlin:20241111T170000
DTSTAMP:20260425T141140
CREATED:20240822T203829Z
LAST-MODIFIED:20240822T203830Z
UID:1338-1731337200-1731344400@eks-ffm.de
SUMMARY:Elterncafé
DESCRIPTION:
URL:https://eks-ffm.de/termin/elterncafe-8/
END:VEVENT
BEGIN:VEVENT
DTSTART;TZID=Europe/Berlin:20241130T110000
DTEND;TZID=Europe/Berlin:20241130T140000
DTSTAMP:20260425T141140
CREATED:20241129T072916Z
LAST-MODIFIED:20241129T072918Z
UID:1380-1732964400-1732975200@eks-ffm.de
SUMMARY:Markt der Möglichkeiten
DESCRIPTION:Einladungsflyer-MdM_24_25Herunterladen\n\n\n\nEntscheidungshilfe für Eltern und Kinder \n\n\n\nDie Frankfurter Integrierten Gesamtschulen stellen ihre Arbeit vor. \n\n\n\nSa.\, 30. Nov. 2024Begrüßung: 11.00 UhrÖffnen der Marktstände: 11.10 UhrEnde: 14.00 Uhr
URL:https://eks-ffm.de/termin/markt-der-moeglichkeiten/
END:VEVENT
END:VCALENDAR